BEGIN:VCALENDAR
VERSION:2.0
PRODID:-//ChamberMaster//Event Calendar 2.0//EN
METHOD:PUBLISH
X-PUBLISHED-TTL:P1H
REFRESH-INTERVAL:P1H
CALSCALE:GREGORIAN
BEGIN:VTIMEZONE
TZID:America/Los_Angeles
BEGIN:DAYLIGHT
RRULE:FREQ=YEARLY;BYMONTH=3;BYDAY=2SU
DTSTART:20070101T000000
TZOFFSETFROM:-0800
TZOFFSETTO:-0700
TZNAME:Pacific Daylight Time
END:DAYLIGHT
BEGIN:STANDARD
RRULE:FREQ=YEARLY;BYMONTH=11;BYDAY=1SU
DTSTART:20070101T000000
TZOFFSETFROM:-0700
TZOFFSETTO:-0800
TZNAME:Pacific Standard Time
END:STANDARD
END:VTIMEZONE
BEGIN:VEVENT
DTSTART;TZID=America/Los_Angeles:20260819T170000
DTEND;TZID=America/Los_Angeles:20260819T190000
X-MICROSOFT-CDO-ALLDAYEVENT:FALSE
SUMMARY:Business After Hours at CSz Portland
DESCRIPTION:This month join us at CSz Portland!CSz Portland delivers hands-on professional development workshops that build real communication\, trust\, and adaptability. No lectures. No slides. Trusted by 800+ organizations since 1993.Our website: cszportland.com   *Business After Hours is a Member's Only Event*
X-ALT-DESC;FMTTYPE=text/html:<!DOCTYPE html><html><head><title></title></head><body aria-disabled="false"><p><span style="font-size: 18px\; font-family: Arial\, Helvetica\, sans-serif\;">T</span><span style="font-size: 18px\;"><span style="font-family: Arial\,Helvetica\,sans-serif\;">his month join us at CSz Portland!</span></span></p><p><span style="font-size: 18px\;"><span style="font-family: Arial\,Helvetica\,sans-serif\;">CSz Portland delivers hands-on professional development workshops that build real communication\, trust\, and adaptability. No lectures. No slides. Trusted by 800+ organizations since 1993.</span></span></p><p><span style="font-size: 18px\;"><span style="font-family: Arial\,Helvetica\,sans-serif\;">Our website: <a fr-original-style="" href="https://urldefense.proofpoint.com/v2/url?u=http-3A__cszportland.com&d=DwMFaQ&c=euGZstcaTDllvimEN8b7jXrwqOf-v5A_CdpgnVfiiMM&r=ooZZG8vk7tB_KWkXP5xFN5rRy_eQWA905PqHtXIWkJg&m=G8H-RuqFko-ApPaypPNs99bJknu8Nhcp3Nhr5iS9g68N_v2ywOGm2390qrgIpvUh&s=gsDFCjfqkPdbcAyo6R9JZzoWJ5s4dKkDwUYZKW2QMZU&e=" style="user-select: auto\;">cszportland.com</a></span></span></p><p><u1:p><span style="font-family: Arial\, Helvetica\, sans-serif\; font-size: 18px\;">&nbsp\;</span></u1:p></p><p>&nbsp\;<u1:p>&nbsp\;</u1:p></p><p>*Business After Hours is a Member&#39\;s Only Event*</p></body></html>
LOCATION:535 NW 16th Ave Portland OR 97209
UID:e.2009.1448339
SEQUENCE:3
DTSTAMP:20260423T233838Z
URL:https://business.portlandalliance.com/events/Details/business-after-hours-at-csz-portland-1715339?sourceTypeId=Hub
END:VEVENT
END:VCALENDAR
